BEGIN:VCALENDAR
VERSION:2.0
PRODID:-//SP Basel-Stadt - ECPv6.15.20//NONSGML v1.0//EN
CALSCALE:GREGORIAN
METHOD:PUBLISH
X-ORIGINAL-URL:https://sp-bs.ch
X-WR-CALDESC:Veranstaltungen im SP Basel-Stadt
REFRESH-INTERVAL;VALUE=DURATION:PT1H
X-Robots-Tag:noindex
X-PUBLISHED-TTL:PT1H
BEGIN:VTIMEZONE
TZID:Europe/Zurich
BEGIN:DAYLIGHT
TZOFFSETFROM:+0100
TZOFFSETTO:+0200
TZNAME:CEST
DTSTART:20250330T010000
END:DAYLIGHT
BEGIN:STANDARD
TZOFFSETFROM:+0200
TZOFFSETTO:+0100
TZNAME:CET
DTSTART:20251026T010000
END:STANDARD
BEGIN:DAYLIGHT
TZOFFSETFROM:+0100
TZOFFSETTO:+0200
TZNAME:CEST
DTSTART:20260329T010000
END:DAYLIGHT
BEGIN:STANDARD
TZOFFSETFROM:+0200
TZOFFSETTO:+0100
TZNAME:CET
DTSTART:20261025T010000
END:STANDARD
BEGIN:DAYLIGHT
TZOFFSETFROM:+0100
TZOFFSETTO:+0200
TZNAME:CEST
DTSTART:20270328T010000
END:DAYLIGHT
BEGIN:STANDARD
TZOFFSETFROM:+0200
TZOFFSETTO:+0100
TZNAME:CET
DTSTART:20271031T010000
END:STANDARD
END:VTIMEZONE
BEGIN:VEVENT
DTSTART;TZID=Europe/Zurich:20260511T140000
DTEND;TZID=Europe/Zurich:20260511T160000
DTSTAMP:20260425T204558
CREATED:20260330T082143Z
LAST-MODIFIED:20260330T082156Z
UID:10005471-1778508000-1778515200@sp-bs.ch
SUMMARY:Kerngruppensitzung SP 60+ Basel-Stadt
DESCRIPTION:Kerngruppensitzung der SP 60+ Basel-Stadt. \nDie Sitzung findet im Sitzungszimmer des SP-Sekretariats\, Gewerkschaftshaus\, Rebgasse 1\, 2058 Basel statt. \n  \n 
URL:https://sp-bs.ch/veranstaltung/kerngruppensitzung-sp-60/
LOCATION:Seki Basel\, Rebgasse 1
CATEGORIES:SP 60+ BS
END:VEVENT
BEGIN:VEVENT
DTSTART;TZID=Europe/Zurich:20260610T183000
DTEND;TZID=Europe/Zurich:20260610T183000
DTSTAMP:20260425T204558
CREATED:20260316T085040Z
LAST-MODIFIED:20260402T115634Z
UID:10005466-1781116200-1781116200@sp-bs.ch
SUMMARY:Kerngruppensitzung SP Migrant:innen Basel-Stadt
DESCRIPTION:Kerngruppensitzung der SP Migrant:innen Basel-Stadt. \n\n10. Juni 2026\nSitzungszimmer SP Sekretariat\, Gewerkschaftshaus\, Rebgasse 1\, 4058 Basel\, 4. Stock\n18:30 Uhr\n\n  \n 
URL:https://sp-bs.ch/veranstaltung/kerngruppensitzung-sp-migrantinnen-basel-stadt/
LOCATION:Seki Basel\, Rebgasse 1
CATEGORIES:SP Migrant:innen
END:VEVENT
BEGIN:VEVENT
DTSTART;TZID=Europe/Zurich:20260921T190000
DTEND;TZID=Europe/Zurich:20260921T210000
DTSTAMP:20260425T204558
CREATED:20260203T101210Z
LAST-MODIFIED:20260203T101210Z
UID:10005451-1790017200-1790024400@sp-bs.ch
SUMMARY:Vorbesprechung der Delegierten für den SP Parteitag im Oktober 2026
DESCRIPTION:Sitzung/Vorbesprechung der Delegierten für den Parteitag am 17.10 + 18.10\n21. September 2026\n19:00 Uhr\nSitzungszimmer Sekretariat\, 4.Stock\,  Gewerkschaftshaus\, Rebgasse 1\, 4058 Basel.\n\n 
URL:https://sp-bs.ch/veranstaltung/vorbesprechung-der-delegierten-fuer-den-sp-parteitag-im-oktober-2026/
LOCATION:Seki Basel\, Rebgasse 1
END:VEVENT
END:VCALENDAR