BEGIN:VCALENDAR
VERSION:2.0
PRODID:-//SP Basel-Stadt - ECPv6.15.20//NONSGML v1.0//EN
CALSCALE:GREGORIAN
METHOD:PUBLISH
X-WR-CALNAME:SP Basel-Stadt
X-ORIGINAL-URL:https://sp-bs.ch
X-WR-CALDESC:Veranstaltungen im SP Basel-Stadt
REFRESH-INTERVAL;VALUE=DURATION:PT1H
X-Robots-Tag:noindex
X-PUBLISHED-TTL:PT1H
BEGIN:VTIMEZONE
TZID:Europe/Zurich
BEGIN:DAYLIGHT
TZOFFSETFROM:+0100
TZOFFSETTO:+0200
TZNAME:CEST
DTSTART:20240331T010000
END:DAYLIGHT
BEGIN:STANDARD
TZOFFSETFROM:+0200
TZOFFSETTO:+0100
TZNAME:CET
DTSTART:20241027T010000
END:STANDARD
BEGIN:DAYLIGHT
TZOFFSETFROM:+0100
TZOFFSETTO:+0200
TZNAME:CEST
DTSTART:20250330T010000
END:DAYLIGHT
BEGIN:STANDARD
TZOFFSETFROM:+0200
TZOFFSETTO:+0100
TZNAME:CET
DTSTART:20251026T010000
END:STANDARD
BEGIN:DAYLIGHT
TZOFFSETFROM:+0100
TZOFFSETTO:+0200
TZNAME:CEST
DTSTART:20260329T010000
END:DAYLIGHT
BEGIN:STANDARD
TZOFFSETFROM:+0200
TZOFFSETTO:+0100
TZNAME:CET
DTSTART:20261025T010000
END:STANDARD
END:VTIMEZONE
BEGIN:VEVENT
DTSTART;TZID=Europe/Zurich:20250811T190000
DTEND;TZID=Europe/Zurich:20250811T200000
DTSTAMP:20260421T181702
CREATED:20250619T071957Z
LAST-MODIFIED:20250709T090111Z
UID:109038-1754938800-1754942400@sp-bs.ch
SUMMARY:Vorstandssitzung - SP Basel QV Basel West
DESCRIPTION:Sitzung des Vorstands\, anschliessend Bartreffen\, offen für alle. \n\n19:00 Uhr: Vorstandssitzung an der der Feierabendstrasse 80\nab ca. 20:30 Uhr:  Bartreff im Bistro Rosa\, Allschwilerplatz 22\, 4055 Basel
URL:https://sp-bs.ch/veranstaltung/vorstandssitzung-sp-basel-qv-basel-west-2/
CATEGORIES:Basel West
END:VEVENT
END:VCALENDAR