BEGIN:VCALENDAR
VERSION:2.0
PRODID:-//SP Basel-Stadt - ECPv6.15.20//NONSGML v1.0//EN
CALSCALE:GREGORIAN
METHOD:PUBLISH
X-WR-CALNAME:SP Basel-Stadt
X-ORIGINAL-URL:https://sp-bs.ch
X-WR-CALDESC:Veranstaltungen im SP Basel-Stadt
REFRESH-INTERVAL;VALUE=DURATION:PT1H
X-Robots-Tag:noindex
X-PUBLISHED-TTL:PT1H
BEGIN:VTIMEZONE
TZID:Europe/Zurich
BEGIN:DAYLIGHT
TZOFFSETFROM:+0100
TZOFFSETTO:+0200
TZNAME:CEST
DTSTART:20240331T010000
END:DAYLIGHT
BEGIN:STANDARD
TZOFFSETFROM:+0200
TZOFFSETTO:+0100
TZNAME:CET
DTSTART:20241027T010000
END:STANDARD
BEGIN:DAYLIGHT
TZOFFSETFROM:+0100
TZOFFSETTO:+0200
TZNAME:CEST
DTSTART:20250330T010000
END:DAYLIGHT
BEGIN:STANDARD
TZOFFSETFROM:+0200
TZOFFSETTO:+0100
TZNAME:CET
DTSTART:20251026T010000
END:STANDARD
BEGIN:DAYLIGHT
TZOFFSETFROM:+0100
TZOFFSETTO:+0200
TZNAME:CEST
DTSTART:20260329T010000
END:DAYLIGHT
BEGIN:STANDARD
TZOFFSETFROM:+0200
TZOFFSETTO:+0100
TZNAME:CET
DTSTART:20261025T010000
END:STANDARD
END:VTIMEZONE
BEGIN:VEVENT
DTSTART;TZID=Europe/Zurich:20251113T193000
DTEND;TZID=Europe/Zurich:20251113T193000
DTSTAMP:20260421T132837
CREATED:20251015T070012Z
LAST-MODIFIED:20251015T070019Z
UID:109454-1763062200-1763062200@sp-bs.ch
SUMMARY:Politfazit
DESCRIPTION:Dass alljährlich stattfindende Politfazit beginnt mit einem Apero\, ehe uns unsere Mandatär:innen Einblicke geben. Wir freuen uns auf Inputs von Eva Herzog und Kaspar Sutter sowie Nicole Amacher\, Jean-Luc Perret\, Leoni Bolz\, Claudio Miozzari sowie Alexandra Dill.
URL:https://sp-bs.ch/veranstaltung/politfazit-2/
LOCATION:QuBa – Quartierzentrum Bachletten\, Bachlettenstrasse 12\, Basel\, 4054
CATEGORIES:Basel West
END:VEVENT
END:VCALENDAR