BEGIN:VCALENDAR
VERSION:2.0
PRODID:-//SP Basel-Stadt - ECPv6.15.20//NONSGML v1.0//EN
CALSCALE:GREGORIAN
METHOD:PUBLISH
X-WR-CALNAME:SP Basel-Stadt
X-ORIGINAL-URL:https://sp-bs.ch
X-WR-CALDESC:Veranstaltungen im SP Basel-Stadt
REFRESH-INTERVAL;VALUE=DURATION:PT1H
X-Robots-Tag:noindex
X-PUBLISHED-TTL:PT1H
BEGIN:VTIMEZONE
TZID:Europe/Zurich
BEGIN:DAYLIGHT
TZOFFSETFROM:+0100
TZOFFSETTO:+0200
TZNAME:CEST
DTSTART:20240331T010000
END:DAYLIGHT
BEGIN:STANDARD
TZOFFSETFROM:+0200
TZOFFSETTO:+0100
TZNAME:CET
DTSTART:20241027T010000
END:STANDARD
BEGIN:DAYLIGHT
TZOFFSETFROM:+0100
TZOFFSETTO:+0200
TZNAME:CEST
DTSTART:20250330T010000
END:DAYLIGHT
BEGIN:STANDARD
TZOFFSETFROM:+0200
TZOFFSETTO:+0100
TZNAME:CET
DTSTART:20251026T010000
END:STANDARD
BEGIN:DAYLIGHT
TZOFFSETFROM:+0100
TZOFFSETTO:+0200
TZNAME:CEST
DTSTART:20260329T010000
END:DAYLIGHT
BEGIN:STANDARD
TZOFFSETFROM:+0200
TZOFFSETTO:+0100
TZNAME:CET
DTSTART:20261025T010000
END:STANDARD
END:VTIMEZONE
BEGIN:VEVENT
DTSTART;TZID=Europe/Zurich:20250923T193000
DTEND;TZID=Europe/Zurich:20250923T193000
DTSTAMP:20260421T200241
CREATED:20250922T075310Z
LAST-MODIFIED:20250922T075320Z
UID:109346-1758655800-1758655800@sp-bs.ch
SUMMARY:Mitgliederversammlung: Gundeli - im Wandel der Zeit
DESCRIPTION:Im Fokus unserer Mitgliederversammlung steht unser Quartier Gundeldingen\, das in diesem Jahr seinen 150. Geburtstag feiert. Unter dem Titel „Das Gundeli – Im Wandel der Zeit“ werfen wir gemeinsam mit spannenden Gästen einen Blick zurück: Der Historiker Osi Inglin wird uns Einblicke in die Anfänge und geschichtlichen Entwicklungen des Quartiers geben. Beatrice Isler\, eine ausgewiesene Kennerin des Gundeli\, bringt uns die jüngere Zeitgeschichte näher und zeigt auf\, wie sich das Quartier im Laufe der Jahre verändert hat. Auch unsere Vereinsgeschichte kommt nicht zu kurz – ein Blick in die Archive zeigt\, wie wir als SP Gundeldingen-Bruderholz Teil dieser Entwicklung waren. \nZum Abschluss freuen wir uns auf einen regen Austausch und eure persönlichen Erinnerungen und Anekdoten zu hören. \nDie Veranstaltung ist öffentlich\, bringt also gerne interessierte Freund:innen oder Nachbar:innen mit.
URL:https://sp-bs.ch/veranstaltung/mitgliederversammlung-gundeli-im-wandel-der-zeit/
LOCATION:Restaurant Bundesbahn\, Hochstrasse 59\, Basel\, 4053\, Schweiz
CATEGORIES:Gundeldingen-Bruderholz
ATTACH;FMTTYPE=image/jpeg:https://sp-bs.ch/wp-content/uploads/2025/09/Gund.jpeg
END:VEVENT
END:VCALENDAR