BEGIN:VCALENDAR
VERSION:2.0
PRODID:-//SP Basel-Stadt - ECPv6.15.20//NONSGML v1.0//EN
CALSCALE:GREGORIAN
METHOD:PUBLISH
X-WR-CALNAME:SP Basel-Stadt
X-ORIGINAL-URL:https://sp-bs.ch
X-WR-CALDESC:Veranstaltungen im SP Basel-Stadt
REFRESH-INTERVAL;VALUE=DURATION:PT1H
X-Robots-Tag:noindex
X-PUBLISHED-TTL:PT1H
BEGIN:VTIMEZONE
TZID:Europe/Zurich
BEGIN:DAYLIGHT
TZOFFSETFROM:+0100
TZOFFSETTO:+0200
TZNAME:CEST
DTSTART:20230326T010000
END:DAYLIGHT
BEGIN:STANDARD
TZOFFSETFROM:+0200
TZOFFSETTO:+0100
TZNAME:CET
DTSTART:20231029T010000
END:STANDARD
BEGIN:DAYLIGHT
TZOFFSETFROM:+0100
TZOFFSETTO:+0200
TZNAME:CEST
DTSTART:20240331T010000
END:DAYLIGHT
BEGIN:STANDARD
TZOFFSETFROM:+0200
TZOFFSETTO:+0100
TZNAME:CET
DTSTART:20241027T010000
END:STANDARD
BEGIN:DAYLIGHT
TZOFFSETFROM:+0100
TZOFFSETTO:+0200
TZNAME:CEST
DTSTART:20250330T010000
END:DAYLIGHT
BEGIN:STANDARD
TZOFFSETFROM:+0200
TZOFFSETTO:+0100
TZNAME:CET
DTSTART:20251026T010000
END:STANDARD
END:VTIMEZONE
BEGIN:VEVENT
DTSTART;TZID=Europe/Zurich:20240624T180000
DTEND;TZID=Europe/Zurich:20240624T200000
DTSTAMP:20260422T154520
CREATED:20240502T065743Z
LAST-MODIFIED:20240604T115735Z
UID:104586-1719252000-1719259200@sp-bs.ch
SUMMARY:Anlass JUSO und SP60+ beider Basel
DESCRIPTION:Am Mittwoch\, 24. Juni 2024 findet ein gemeinsamer Anlass der JUSO  SP 60+ beider Basel statt. \n\n18:00 Uhr\nSitzungszimmer Sekretariat der SP Basel-Stadt\, Gewerkschaftshaus\, Rebgasse 1\, 4058 Basel\, 4. Stock\n\n  \n 
URL:https://sp-bs.ch/veranstaltung/anlass-juso-und-sp60/
LOCATION:Seki Basel\, Rebgasse 1
CATEGORIES:SP 60+ BS
END:VEVENT
END:VCALENDAR