BEGIN:VCALENDAR
VERSION:2.0
PRODID:-//SP Basel-Stadt - ECPv6.15.20//NONSGML v1.0//EN
CALSCALE:GREGORIAN
METHOD:PUBLISH
X-WR-CALNAME:SP Basel-Stadt
X-ORIGINAL-URL:https://sp-bs.ch
X-WR-CALDESC:Veranstaltungen im SP Basel-Stadt
REFRESH-INTERVAL;VALUE=DURATION:PT1H
X-Robots-Tag:noindex
X-PUBLISHED-TTL:PT1H
BEGIN:VTIMEZONE
TZID:Europe/Zurich
BEGIN:DAYLIGHT
TZOFFSETFROM:+0100
TZOFFSETTO:+0200
TZNAME:CEST
DTSTART:20240331T010000
END:DAYLIGHT
BEGIN:STANDARD
TZOFFSETFROM:+0200
TZOFFSETTO:+0100
TZNAME:CET
DTSTART:20241027T010000
END:STANDARD
BEGIN:DAYLIGHT
TZOFFSETFROM:+0100
TZOFFSETTO:+0200
TZNAME:CEST
DTSTART:20250330T010000
END:DAYLIGHT
BEGIN:STANDARD
TZOFFSETFROM:+0200
TZOFFSETTO:+0100
TZNAME:CET
DTSTART:20251026T010000
END:STANDARD
BEGIN:DAYLIGHT
TZOFFSETFROM:+0100
TZOFFSETTO:+0200
TZNAME:CEST
DTSTART:20260329T010000
END:DAYLIGHT
BEGIN:STANDARD
TZOFFSETFROM:+0200
TZOFFSETTO:+0100
TZNAME:CET
DTSTART:20261025T010000
END:STANDARD
END:VTIMEZONE
BEGIN:VEVENT
DTSTART;TZID=Europe/Zurich:20251218T200000
DTEND;TZID=Europe/Zurich:20251218T200000
DTSTAMP:20260420T133434
CREATED:20250123T135601Z
LAST-MODIFIED:20250123T135901Z
UID:108145-1766088000-1766088000@sp-bs.ch
SUMMARY:Vorstandssitzung QV Horburg-Kleinhüningen
DESCRIPTION:Vorstandssitzung des QV Horburg-Kleinhüningen \n\n18. Dezember 2025\nCafe Hammer\, Hammerstrasse 133\n20:00 Uhr
URL:https://sp-bs.ch/veranstaltung/vorstandssitzung-qv-horburg-kleinhueningen-13/
CATEGORIES:Horburg-Kleinhüningen
END:VEVENT
END:VCALENDAR