BEGIN:VCALENDAR
VERSION:2.0
PRODID:-//SP Basel-Stadt - ECPv6.15.20//NONSGML v1.0//EN
CALSCALE:GREGORIAN
METHOD:PUBLISH
X-WR-CALNAME:SP Basel-Stadt
X-ORIGINAL-URL:https://sp-bs.ch
X-WR-CALDESC:Veranstaltungen im SP Basel-Stadt
REFRESH-INTERVAL;VALUE=DURATION:PT1H
X-Robots-Tag:noindex
X-PUBLISHED-TTL:PT1H
BEGIN:VTIMEZONE
TZID:Europe/Zurich
BEGIN:DAYLIGHT
TZOFFSETFROM:+0100
TZOFFSETTO:+0200
TZNAME:CEST
DTSTART:20240331T010000
END:DAYLIGHT
BEGIN:STANDARD
TZOFFSETFROM:+0200
TZOFFSETTO:+0100
TZNAME:CET
DTSTART:20241027T010000
END:STANDARD
BEGIN:DAYLIGHT
TZOFFSETFROM:+0100
TZOFFSETTO:+0200
TZNAME:CEST
DTSTART:20250330T010000
END:DAYLIGHT
BEGIN:STANDARD
TZOFFSETFROM:+0200
TZOFFSETTO:+0100
TZNAME:CET
DTSTART:20251026T010000
END:STANDARD
BEGIN:DAYLIGHT
TZOFFSETFROM:+0100
TZOFFSETTO:+0200
TZNAME:CEST
DTSTART:20260329T010000
END:DAYLIGHT
BEGIN:STANDARD
TZOFFSETFROM:+0200
TZOFFSETTO:+0100
TZNAME:CET
DTSTART:20261025T010000
END:STANDARD
END:VTIMEZONE
BEGIN:VEVENT
DTSTART;TZID=Europe/Zurich:20250830T160000
DTEND;TZID=Europe/Zurich:20250830T160000
DTSTAMP:20260421T164621
CREATED:20250820T125039Z
LAST-MODIFIED:20250820T125048Z
UID:109223-1756569600-1756569600@sp-bs.ch
SUMMARY:Sommerapéro QV ABI
DESCRIPTION:Gemeinsam stimmen wir uns auf den politischen Herbst ein! Garantiert ohne 39% Zoll 😉 \nDie perfekte Gelegenheit\, in entspannter Atmosphäre unter Mitgliedern zu plaudern\, sich zu vernetzen und alte Bekannte wieder zu treffen.
URL:https://sp-bs.ch/veranstaltung/sommerapero-qv-abi/
LOCATION:Breitenmatte\, Zürcherstrasse 78-106\, Basel\, 4052\, Schweiz
CATEGORIES:St. Alban-Breite-Innenstadt
END:VEVENT
END:VCALENDAR