BEGIN:VCALENDAR
VERSION:2.0
PRODID:-//SP Basel-Stadt - ECPv6.15.20//NONSGML v1.0//EN
CALSCALE:GREGORIAN
METHOD:PUBLISH
X-WR-CALNAME:SP Basel-Stadt
X-ORIGINAL-URL:https://sp-bs.ch
X-WR-CALDESC:Veranstaltungen im SP Basel-Stadt
REFRESH-INTERVAL;VALUE=DURATION:PT1H
X-Robots-Tag:noindex
X-PUBLISHED-TTL:PT1H
BEGIN:VTIMEZONE
TZID:Europe/Zurich
BEGIN:DAYLIGHT
TZOFFSETFROM:+0100
TZOFFSETTO:+0200
TZNAME:CEST
DTSTART:20240331T010000
END:DAYLIGHT
BEGIN:STANDARD
TZOFFSETFROM:+0200
TZOFFSETTO:+0100
TZNAME:CET
DTSTART:20241027T010000
END:STANDARD
BEGIN:DAYLIGHT
TZOFFSETFROM:+0100
TZOFFSETTO:+0200
TZNAME:CEST
DTSTART:20250330T010000
END:DAYLIGHT
BEGIN:STANDARD
TZOFFSETFROM:+0200
TZOFFSETTO:+0100
TZNAME:CET
DTSTART:20251026T010000
END:STANDARD
BEGIN:DAYLIGHT
TZOFFSETFROM:+0100
TZOFFSETTO:+0200
TZNAME:CEST
DTSTART:20260329T010000
END:DAYLIGHT
BEGIN:STANDARD
TZOFFSETFROM:+0200
TZOFFSETTO:+0100
TZNAME:CET
DTSTART:20261025T010000
END:STANDARD
END:VTIMEZONE
BEGIN:VEVENT
DTSTART;TZID=Europe/Zurich:20251113T193000
DTEND;TZID=Europe/Zurich:20251113T193000
DTSTAMP:20260421T151133
CREATED:20250903T064540Z
LAST-MODIFIED:20250916T065830Z
UID:109304-1763062200-1763062200@sp-bs.ch
SUMMARY:Politfazit QV Basel West
DESCRIPTION:Donnerstag\, 13. November 2025\nQuBa Quartierzentrum Bachletten\, Bachlettenstrasse 12\, Basel\nApéro ab 19:30 Uhr\nBeginn 20:00 Uhr\n\nDie Mandatär:innen der Sektion QV Basel West ziehen Fazit und geben Einblick in ihr bisheriges Politjahr. Nach kurzen Inputs aus Stände- bis Bürgergemeinderat folgen Gespräche an runden Tischen
URL:https://sp-bs.ch/veranstaltung/politfazit-qv-basel-west-2/
LOCATION:QuBa – Quartierzentrum Bachletten\, Bachlettenstrasse 12\, Basel\, 4054
CATEGORIES:Abstimmungen,Basel West
END:VEVENT
END:VCALENDAR