BEGIN:VCALENDAR
VERSION:2.0
PRODID:-//SP Basel-Stadt - ECPv6.15.20//NONSGML v1.0//EN
CALSCALE:GREGORIAN
METHOD:PUBLISH
X-WR-CALNAME:SP Basel-Stadt
X-ORIGINAL-URL:https://sp-bs.ch
X-WR-CALDESC:Veranstaltungen im SP Basel-Stadt
REFRESH-INTERVAL;VALUE=DURATION:PT1H
X-Robots-Tag:noindex
X-PUBLISHED-TTL:PT1H
BEGIN:VTIMEZONE
TZID:Europe/Zurich
BEGIN:DAYLIGHT
TZOFFSETFROM:+0100
TZOFFSETTO:+0200
TZNAME:CEST
DTSTART:20150329T010000
END:DAYLIGHT
BEGIN:STANDARD
TZOFFSETFROM:+0200
TZOFFSETTO:+0100
TZNAME:CET
DTSTART:20151025T010000
END:STANDARD
BEGIN:DAYLIGHT
TZOFFSETFROM:+0100
TZOFFSETTO:+0200
TZNAME:CEST
DTSTART:20160327T010000
END:DAYLIGHT
BEGIN:STANDARD
TZOFFSETFROM:+0200
TZOFFSETTO:+0100
TZNAME:CET
DTSTART:20161030T010000
END:STANDARD
BEGIN:DAYLIGHT
TZOFFSETFROM:+0100
TZOFFSETTO:+0200
TZNAME:CEST
DTSTART:20170326T010000
END:DAYLIGHT
BEGIN:STANDARD
TZOFFSETFROM:+0200
TZOFFSETTO:+0100
TZNAME:CET
DTSTART:20171029T010000
END:STANDARD
END:VTIMEZONE
BEGIN:VEVENT
DTSTART;TZID=Europe/Zurich:20160929T173000
DTEND;TZID=Europe/Zurich:20160929T193000
DTSTAMP:20260421T130013
CREATED:20160927T095305Z
LAST-MODIFIED:20230609T115146Z
UID:95949-1475170200-1475177400@sp-bs.ch
SUMMARY:Podium zum Thema Migration
DESCRIPTION:Integration\, Inklusion\, Partizipation \nWas versteckt sich hinter diesen Schlagwörtern? \nDie SP Basel-Stadt freut sich\, an eine spannendePodiumsdiskussion mit folgenden TeilnehmerInnen einladen zu dürfen: \n– Cédric Wermuth\, Nationalrat SP– Dr. Rebekka Ehret\, Ethnologin\, Dozentin und Projektleiterin– Kurt Pelda\, Ökonom\, Redaktor und Kriegsreporter– Gina Vega\, Expertin Diversity \nBegrüssungswort: Edibe Gölgeli\, Grossrätin SP BSSchlusswort: Ursula Metzger\, Grossrätin SP BS \nDie Diskussion wird moderiert von Tatiana Vieira\, Moderatorin Radio X. \nAnmeldungen bitte via Facebook oder bei Katrin Hauser.
URL:https://sp-bs.ch/veranstaltung/podium-zum-thema-migration/
END:VEVENT
END:VCALENDAR