BEGIN:VCALENDAR
VERSION:2.0
PRODID:-//SP Basel-Stadt - ECPv6.15.20//NONSGML v1.0//EN
CALSCALE:GREGORIAN
METHOD:PUBLISH
X-WR-CALNAME:SP Basel-Stadt
X-ORIGINAL-URL:https://sp-bs.ch
X-WR-CALDESC:Veranstaltungen im SP Basel-Stadt
REFRESH-INTERVAL;VALUE=DURATION:PT1H
X-Robots-Tag:noindex
X-PUBLISHED-TTL:PT1H
BEGIN:VTIMEZONE
TZID:Europe/Zurich
BEGIN:DAYLIGHT
TZOFFSETFROM:+0100
TZOFFSETTO:+0200
TZNAME:CEST
DTSTART:20250330T010000
END:DAYLIGHT
BEGIN:STANDARD
TZOFFSETFROM:+0200
TZOFFSETTO:+0100
TZNAME:CET
DTSTART:20251026T010000
END:STANDARD
BEGIN:DAYLIGHT
TZOFFSETFROM:+0100
TZOFFSETTO:+0200
TZNAME:CEST
DTSTART:20260329T010000
END:DAYLIGHT
BEGIN:STANDARD
TZOFFSETFROM:+0200
TZOFFSETTO:+0100
TZNAME:CET
DTSTART:20261025T010000
END:STANDARD
BEGIN:DAYLIGHT
TZOFFSETFROM:+0100
TZOFFSETTO:+0200
TZNAME:CEST
DTSTART:20270328T010000
END:DAYLIGHT
BEGIN:STANDARD
TZOFFSETFROM:+0200
TZOFFSETTO:+0100
TZNAME:CET
DTSTART:20271031T010000
END:STANDARD
END:VTIMEZONE
BEGIN:VEVENT
DTSTART;TZID=Europe/Zurich:20260306T200000
DTEND;TZID=Europe/Zurich:20260306T200000
DTSTAMP:20260420T145311
CREATED:20260226T074305Z
LAST-MODIFIED:20260226T074353Z
UID:110571-1772827200-1772827200@sp-bs.ch
SUMMARY:Jahresversammlung 2026 - QV Spalen
DESCRIPTION:Freitag\, 6. März 2026\n20:00 Uhr\nGemeindehaus Oekolampad\, Allschwilerplatz 22\, 4055 Basel-Stadt\nVortrag und Gespräch mit dem Soziologen\, Ueli Mäder.\n\n 
URL:https://sp-bs.ch/veranstaltung/jahresversammlung-2026-qv-spalen/
LOCATION:Quartierzentrum Oekolampad\, Allschwilerplatz 22\, Basel\, 4055\, Schweiz
CATEGORIES:Spalen
END:VEVENT
END:VCALENDAR