BEGIN:VCALENDAR
VERSION:2.0
PRODID:-//SP Basel-Stadt - ECPv6.15.20//NONSGML v1.0//EN
CALSCALE:GREGORIAN
METHOD:PUBLISH
X-WR-CALNAME:SP Basel-Stadt
X-ORIGINAL-URL:https://sp-bs.ch
X-WR-CALDESC:Veranstaltungen im SP Basel-Stadt
REFRESH-INTERVAL;VALUE=DURATION:PT1H
X-Robots-Tag:noindex
X-PUBLISHED-TTL:PT1H
BEGIN:VTIMEZONE
TZID:Europe/Zurich
BEGIN:DAYLIGHT
TZOFFSETFROM:+0100
TZOFFSETTO:+0200
TZNAME:CEST
DTSTART:20240331T010000
END:DAYLIGHT
BEGIN:STANDARD
TZOFFSETFROM:+0200
TZOFFSETTO:+0100
TZNAME:CET
DTSTART:20241027T010000
END:STANDARD
BEGIN:DAYLIGHT
TZOFFSETFROM:+0100
TZOFFSETTO:+0200
TZNAME:CEST
DTSTART:20250330T010000
END:DAYLIGHT
BEGIN:STANDARD
TZOFFSETFROM:+0200
TZOFFSETTO:+0100
TZNAME:CET
DTSTART:20251026T010000
END:STANDARD
BEGIN:DAYLIGHT
TZOFFSETFROM:+0100
TZOFFSETTO:+0200
TZNAME:CEST
DTSTART:20260329T010000
END:DAYLIGHT
BEGIN:STANDARD
TZOFFSETFROM:+0200
TZOFFSETTO:+0100
TZNAME:CET
DTSTART:20261025T010000
END:STANDARD
END:VTIMEZONE
BEGIN:VEVENT
DTSTART;TZID=Europe/Zurich:20250414T121500
DTEND;TZID=Europe/Zurich:20250414T140000
DTSTAMP:20260421T164937
CREATED:20250205T110219Z
LAST-MODIFIED:20250331T095223Z
UID:108244-1744632900-1744639200@sp-bs.ch
SUMMARY:Feministisches zMittag
DESCRIPTION:Möchtest du dich mit anderen Frauen\, genderqueeren und nicht-binären Menschen vernetzen und austauschen? \nDann komm am 14. April zum FemZmi\, dem feministischen Zmittag der SP Frauen Basel-Stadt. Wir treffen uns von 12:15 – 14:00 Uhr in der Markthalle (Wohnzimmer) und tauschen uns aus. \nMelde dich bei Helena Meyer\, Co-Präsidentin SP Frauen BS an.
URL:https://sp-bs.ch/veranstaltung/feministisches-zmittag-3/
CATEGORIES:SP Frauen Basel-Stadt
END:VEVENT
END:VCALENDAR